BEGIN:VCALENDAR
VERSION:2.0
PRODID:-//Church Admin Plugin//Website//EN
CALSCALE:GREGORIAN
METHOD:PUBLISH
BEGIN:VEVENT
UID:simple-english-bible-studies
TRANSP:OPAQUE
X-APPLE-TRAVEL-ADVISORY-BEHAVIOR:AUTOMATIC
DTSTART;VALUE=DATE:20260514T120000
DTEND;VALUE=DATE:20260514T140000
DTSTAMP:20260420T083203Z
CATEGORIES:International
LOCATION:
DESCRIPTION:Learn English with the Bible in a small group
SUMMARY:Simple English Bible Studies
END:VEVENT
END:VCALENDAR