BEGIN:VCALENDAR
VERSION:2.0
PRODID:-//Church Admin Plugin//Website//EN
CALSCALE:GREGORIAN
METHOD:PUBLISH
BEGIN:VEVENT
UID:grahams-group
TRANSP:OPAQUE
X-APPLE-TRAVEL-ADVISORY-BEHAVIOR:AUTOMATIC
DTSTART;VALUE=DATE:20260505T193000
DTEND;VALUE=DATE:20260505T210000
DTSTAMP:20260420T083616Z
CATEGORIES:Small Group
LOCATION:Fairstead
DESCRIPTION:One of weekly life groups
SUMMARY:Graham's Group
END:VEVENT
END:VCALENDAR